BEGIN:VCALENDAR
PRODID:-//sworde1-10116//EN
VERSION:2.0
BEGIN:VEVENT
SUMMARY:Sworders Timed: Books, Manuscripts and Maps
PRIORITY:0
CLASS:PUBLIC
DTSTART:20260424T110000Z
DTEND:20260504T181100Z
DESCRIPTION:
X-ALT-DESC;FMTTYPE=text/html:
LOCATION:Cambridge Road, Stansted Mountfitchet, Essex, CM24 8GE, United Kingdom
END:VEVENT
END:VCALENDAR