BEGIN:VCALENDAR
PRODID:-//sworde1-10114//EN
VERSION:2.0
BEGIN:VEVENT
SUMMARY:Sworders Timed: Open House | Including the Select Contents of a Provincial French Estate
PRIORITY:0
CLASS:PUBLIC
DTSTART:20260414T170000Z
DTEND:20260420T193136Z
DESCRIPTION:We are excited to introduce Open House, our new weekly timed sales, giving our Homes &amp; Interiors sales a fresh new format. Designed to be more accessible and frequent, with the chance to view items in person before you bid, each week offers a curated selection of unique furniture, statement décor, and timeless design pieces - always something new to discover.
X-ALT-DESC;FMTTYPE=text/html:<p>We are excited to introduce <strong>Open House</strong>, our new weekly timed sales, giving our Homes &amp; Interiors sales a fresh new format. Designed to be more accessible and frequent, with the chance to view items in person before you bid, each week offers a curated selection of unique furniture, statement décor, and timeless design pieces - always something new to discover.</p>
LOCATION:Cambridge Road,  ,  ,  , Stansted Mountfitchet, Essex, CM24 8GE, United Kingdom
END:VEVENT
END:VCALENDAR